BEGIN:VCALENDAR
VERSION:2.0
PRODID:-//silentvoicesrehab.org//NONSGML kigkonsult.se iCalcreator 2.30.10/
 /
CALSCALE:GREGORIAN
METHOD:PUBLISH
UID:46cf55cb-a9a3-4c69-8f59-8bbce6db7c10
X-WR-CALDESC:Come out and buy some items to support our rehabbing efforts!
X-WR-RELCALID:b0a58b61feefb70f77e2e51e39479761
X-WR-TIMEZONE:America/Chicago
BEGIN:VTIMEZONE
TZID:America/Chicago
BEGIN:STANDARD
TZNAME:CST
DTSTART:20221106T020000
TZOFFSETFROM:-0500
TZOFFSETTO:-0600
RDATE:20231105T020000
RDATE:20241103T020000
END:STANDARD
BEGIN:DAYLIGHT
TZNAME:CDT
DTSTART:20230312T020000
TZOFFSETFROM:-0600
TZOFFSETTO:-0500
RDATE:20240310T020000
RDATE:20250309T020000
END:DAYLIGHT
END:VTIMEZONE
BEGIN:VEVENT
UID:1ccbe519-32ae-4b93-b28d-06cffd5a1923
DTSTAMP:20260425T022528Z
DESCRIPTION:Come out and buy some items to support our rehabbing efforts!
DTSTART;TZID=America/Chicago:20231021T080000
DTEND;TZID=America/Chicago:20231021T150000
LOCATION:
SUMMARY:Gretna Citywide Yard Sale
END:VEVENT
END:VCALENDAR
