BEGIN:VCALENDAR
VERSION:2.0
PRODID:-//silentvoicesrehab.org//NONSGML kigkonsult.se iCalcreator 2.30.10/
 /
CALSCALE:GREGORIAN
METHOD:PUBLISH
UID:180647f4-cf06-47a4-81d7-f37aaf9a1294
X-WR-CALDESC:
X-WR-RELCALID:f63b4bee6f2769d9a62a19ab13d6fea2
X-WR-TIMEZONE:America/Chicago
BEGIN:VTIMEZONE
TZID:America/Chicago
BEGIN:STANDARD
TZNAME:CST
DTSTART:20231105T020000
TZOFFSETFROM:-0500
TZOFFSETTO:-0600
RDATE:20241103T020000
END:STANDARD
BEGIN:DAYLIGHT
TZNAME:CDT
DTSTART:20230312T020000
TZOFFSETFROM:-0600
TZOFFSETTO:-0500
RDATE:20240310T020000
RDATE:20250309T020000
END:DAYLIGHT
END:VTIMEZONE
BEGIN:VEVENT
UID:fcff7234-4a89-423d-a2f7-45c33059eeca
DTSTAMP:20260424T204628Z
DESCRIPTION:
DTSTART;TZID=America/Chicago:20240127T090000
DTEND;TZID=America/Chicago:20240127T170000
LOCATION:
SUMMARY:SV Seminar
END:VEVENT
END:VCALENDAR
