BEGIN:VCALENDAR
VERSION:2.0
PRODID:-//silentvoicesrehab.org//NONSGML kigkonsult.se iCalcreator 2.30.10/
 /
CALSCALE:GREGORIAN
METHOD:PUBLISH
UID:3827b369-ee14-4241-84a7-a0ba74e765ba
X-WR-CALDESC:
X-WR-RELCALID:b5909f7dab04948374d4b21fb2afe902
X-WR-TIMEZONE:America/Chicago
BEGIN:VTIMEZONE
TZID:America/Chicago
BEGIN:STANDARD
TZNAME:CST
DTSTART:20231105T020000
TZOFFSETFROM:-0500
TZOFFSETTO:-0600
RDATE:20241103T020000
END:STANDARD
BEGIN:DAYLIGHT
TZNAME:CDT
DTSTART:20240310T020000
TZOFFSETFROM:-0600
TZOFFSETTO:-0500
RDATE:20250309T020000
END:DAYLIGHT
END:VTIMEZONE
BEGIN:VEVENT
UID:4f59d979-c28b-4f7b-b567-b267559655eb
DTSTAMP:20260424T160922Z
DESCRIPTION:
DTSTART;TZID=America/Chicago:20240406T090000
DTEND;TZID=America/Chicago:20240406T170000
LOCATION:5 Victory Ave\, New Orleans\, LA 70119 US
SUMMARY:Spring Garden Show 2024
END:VEVENT
END:VCALENDAR
