BEGIN:VCALENDAR
VERSION:2.0
PRODID:-//silentvoicesrehab.org//NONSGML kigkonsult.se iCalcreator 2.30.10/
 /
CALSCALE:GREGORIAN
METHOD:PUBLISH
UID:bc3ffced-aeb6-4277-b29b-e181f67b52ea
X-WR-CALDESC:2024 Spring Garden & Pet Show will showcase vendors that focus
  on the porch\, patio\, yard\, garden\, and small pets available for adopt
 ion or sale.\n\nThe show will include the following:\n\nPlant nurseries\, 
 arts & crafts vendors and small business owners selling their product\nSma
 ll pets available for adoption/sale\nSeminars and exhibits\nA country stor
 e\nLive entertainment\nSpring speciality drinks with alcohol\nA food & bev
 erage court\nChildren's Activities Include:\n\nA discovery/activity tent\n
 Make and take home arts & crafts\nA demonstration from the bee keeper\nA g
 arden demonstration with LSU AgCenter\nCheramie Farm\, LLC Petting Zoo (Sa
 turday Only)\nAdmission fee - $5.00 general admission and free for childre
 n five (5) and under\n\n
X-WR-RELCALID:64fd12d32a5e3597dbc05752cabef1c8
X-WR-TIMEZONE:America/Chicago
BEGIN:VTIMEZONE
TZID:America/Chicago
BEGIN:STANDARD
TZNAME:CST
DTSTART:20231105T020000
TZOFFSETFROM:-0500
TZOFFSETTO:-0600
RDATE:20241103T020000
END:STANDARD
BEGIN:DAYLIGHT
TZNAME:CDT
DTSTART:20240310T020000
TZOFFSETFROM:-0600
TZOFFSETTO:-0500
RDATE:20250309T020000
END:DAYLIGHT
END:VTIMEZONE
BEGIN:VEVENT
UID:3440835f-a8f4-4613-a865-7e0f9eb7ae91
DTSTAMP:20260424T160209Z
DESCRIPTION:2024 Spring Garden & Pet Show will showcase vendors that focus 
 on the porch\, patio\, yard\, garden\, and small pets available for adopti
 on or sale.\n\nThe show will include the following:\n\nPlant nurseries\, a
 rts & crafts vendors and small business owners selling their product\nSmal
 l pets available for adoption/sale\nSeminars and exhibits\nA country store
 \nLive entertainment\nSpring speciality drinks with alcohol\nA food & beve
 rage court\nChildren's Activities Include:\n\nA discovery/activity tent\nM
 ake and take home arts & crafts\nA demonstration from the bee keeper\nA ga
 rden demonstration with LSU AgCenter\nCheramie Farm\, LLC Petting Zoo (Sat
 urday Only)\nAdmission fee - $5.00 general admission and free for children
  five (5) and under\n\n
DTSTART;TZID=America/Chicago:20240420T100000
DTEND;TZID=America/Chicago:20240421T160000
LOCATION:13034 River Road\, Destrehan\, LA 70047 US
SUMMARY:Destrehan Plantation 2nd Annual Spring Garden and Pet Show
END:VEVENT
END:VCALENDAR
