BEGIN:VCALENDAR
VERSION:2.0
PRODID:-//silentvoicesrehab.org//NONSGML kigkonsult.se iCalcreator 2.30.10/
 /
CALSCALE:GREGORIAN
METHOD:PUBLISH
UID:2f85e0f1-ab0d-475e-be4b-562a2e35e2b8
X-WR-CALDESC:We can’t wait to gather with you for another amazing lineup of
  wildlife experts ready to share novel content\, new skills\, and the late
 st best practices with you. If you have any questions about the program\, 
 your registration\, or any other Symposium-related items\, please reach ou
 t to symposium@nwrawildlife.org.\n
X-WR-RELCALID:0672b3bfbdd1fee6d76ce7acddebc855
X-WR-TIMEZONE:America/Chicago
BEGIN:VTIMEZONE
TZID:America/Chicago
BEGIN:STANDARD
TZNAME:CST
DTSTART:20251102T020000
TZOFFSETFROM:-0500
TZOFFSETTO:-0600
RDATE:20261101T020000
END:STANDARD
BEGIN:DAYLIGHT
TZNAME:CDT
DTSTART:20250309T020000
TZOFFSETFROM:-0600
TZOFFSETTO:-0500
RDATE:20260308T020000
RDATE:20270314T020000
END:DAYLIGHT
END:VTIMEZONE
BEGIN:VEVENT
UID:323bfad1-b1f6-4d17-ac0d-6ad876df41ef
DTSTAMP:20260423T224423Z
DESCRIPTION:We can’t wait to gather with you for another amazing lineup of 
 wildlife experts ready to share novel content\, new skills\, and the lates
 t best practices with you. If you have any questions about the program\, y
 our registration\, or any other Symposium-related items\, please reach out
  to symposium@nwrawildlife.org.\n
DTSTART;TZID=America/Chicago:20260224T050000
DTEND;TZID=America/Chicago:20260228T050001
LOCATION:Hilton Hotel\, Baton Rouge\, 201 Lafayette St\, Baton Rouge\, LA 7
 0801 US
SUMMARY:National Wildlife Rehabbers Association Symposium.
END:VEVENT
END:VCALENDAR
